BEGIN:VCALENDAR
VERSION:2.0
PRODID:-//OmniMagnetCalendar//EN
BEGIN:VEVENT
DTSTAMP:20190625T195740Z
STATUS:CONFIRMED
UID:hcsanantonio.clubs.harvard.edu368
DTSTART:20230412T230000Z
DTEND:20230413T010000Z
LOCATION:Johnson & Johnson Innovation's JLABS (TMC), 2450 Holcombe Blvd, Ste. J, Houston, TX, 77021,
SUMMARY:HBS Houston Alumni Angels PITCH NIGHT - virtual & in-person options
DESCRIPTION:An Invitation for all Harvard Alums in San Antonio area
BEGIN:VALARM
TRIGGER:-PT15M
ACTION:DISPLAY
END:VALARM
TRANSP:OPAQUE
END:VEVENT
END:VCALENDAR
