BEGIN:VCALENDAR
VERSION:2.0
PRODID:-//OmniMagnetCalendar//EN
BEGIN:VEVENT
DTSTAMP:20190625T195740Z
STATUS:CONFIRMED
UID:hcsanantonio.clubs.harvard.edu369
DTSTART:20230613T123000Z
DTEND:20230613T230000Z
LOCATION:CAST Med High School - Auditorium, 2601 Louis Bauer Dr., San Antonio, Texas, 78235,
SUMMARY:Ivy STEM
DESCRIPTION:EARLY COLLEGE AWARENESS Program LOCATION: CAST Med High School
BEGIN:VALARM
TRIGGER:-PT15M
ACTION:DISPLAY
END:VALARM
TRANSP:OPAQUE
END:VEVENT
END:VCALENDAR
