BEGIN:VCALENDAR
VERSION:2.0
PRODID:-//OmniMagnetCalendar//EN
BEGIN:VEVENT
DTSTAMP:20190625T195740Z
STATUS:CONFIRMED
UID:hcsanantonio.clubs.harvard.edu370
DTSTART:20230509T233000Z
DTEND:20230510T003000Z
LOCATION:Virtual,
SUMMARY:Fireside Chat with Sarah Karmon (A Virtual Event)
DESCRIPTION:Meet Sarah Karmon, Associate VP & Executive Director of Harvard Alumni Association
BEGIN:VALARM
TRIGGER:-PT15M
ACTION:DISPLAY
END:VALARM
TRANSP:OPAQUE
END:VEVENT
END:VCALENDAR
