BEGIN:VCALENDAR
VERSION:2.0
PRODID:-//OmniMagnetCalendar//EN
BEGIN:VEVENT
DTSTAMP:20190625T195740Z
STATUS:CONFIRMED
UID:hcsanantonio.clubs.harvard.edu373
DTSTART:20230625T230000Z
DTEND:20230626T010000Z
LOCATION:Chicken N Pickle, 5215 UTSA Blvd, San Antonio, TX,
SUMMARY:CHANGE OF DATE - We will meet up on SUNDAY, JUNE 25 for Chicken N Pickle - - An Ivy+ Event
DESCRIPTION:PLS NOTE THE DATE HAS BEEN CHANGED TO JUNE 25 Join the fun with fellow Ivy alums!  A FREE event for Ivy alums! LOCATION: 5215 UTSA Blvd - Indoors
BEGIN:VALARM
TRIGGER:-PT15M
ACTION:DISPLAY
END:VALARM
TRANSP:OPAQUE
END:VEVENT
END:VCALENDAR
