BEGIN:VCALENDAR
VERSION:2.0
PRODID:-//OmniMagnetCalendar//EN
BEGIN:VEVENT
DTSTAMP:20190625T195740Z
STATUS:CONFIRMED
UID:hcsanantonio.clubs.harvard.edu375
DTSTART:20230927T223000Z
DTEND:20230928T003000Z
LOCATION:Boeing Center, 3331 General Hudnell Dr., San Antonio, TX, 78226,
SUMMARY:WELCOME TO YOUR CITY - San Antonio!
DESCRIPTION:LOCATION: Boeing Center Please RSVP in Advance!
BEGIN:VALARM
TRIGGER:-PT15M
ACTION:DISPLAY
END:VALARM
TRANSP:OPAQUE
END:VEVENT
END:VCALENDAR
