BEGIN:VCALENDAR
VERSION:2.0
PRODID:-//OmniMagnetCalendar//EN
BEGIN:VEVENT
DTSTAMP:20190625T195740Z
STATUS:CONFIRMED
UID:hcsanantonio.clubs.harvard.edu376
DTSTART:20230806T190000Z
DTEND:20230806T210000Z
LOCATION:STONE WERKS LINCOLN HEIGHTS, 999 E. Basse Rd., San Antonio, TX, 78209, US,
SUMMARY:HCSA New Student Send Off 2023 - - RSVP today!
DESCRIPTION:Help us give our new Harvard students a great HCSA Send-Off on August 6! LOCATION: Stonewerks, Lincoln Heights
BEGIN:VALARM
TRIGGER:-PT15M
ACTION:DISPLAY
END:VALARM
TRANSP:OPAQUE
END:VEVENT
END:VCALENDAR
