BEGIN:VCALENDAR
VERSION:2.0
PRODID:-//OmniMagnetCalendar//EN
BEGIN:VEVENT
DTSTAMP:20190625T195740Z
STATUS:CONFIRMED
UID:hcsanantonio.clubs.harvard.edu377
DTSTART:20230806T170000Z
DTEND:20230806T190000Z
LOCATION:PANERA BREAD, 999 E. Basse Road, San Antonio, TX, 78209,
SUMMARY:GREAT NEWS - Harvard Club of San Antonio Book Club Resumes - Please Join us at the 1st Meeting
DESCRIPTION:LOCATION: Panera Bread, 999 E. Basse Road BOOK SELECTION: The Science of Fate: The New Science of Who we Are - And How to Shape Our Best Future by Hannah Critchlow
BEGIN:VALARM
TRIGGER:-PT15M
ACTION:DISPLAY
END:VALARM
TRANSP:OPAQUE
END:VEVENT
END:VCALENDAR
