BEGIN:VCALENDAR
VERSION:2.0
PRODID:-//OmniMagnetCalendar//EN
BEGIN:VEVENT
DTSTAMP:20190625T195740Z
STATUS:CONFIRMED
UID:hcsanantonio.clubs.harvard.edu379
DTSTART:20230919T223000Z
DTEND:20230919T233000Z
LOCATION:virtual,
SUMMARY:Extrovert or Introvert: How to Get the Most out of a Networking Event {a virtual program}
DESCRIPTION:Featuring Diane Darling, Renowned Speaker, Instructor, Author & Leadership Coach Another Excellent FREE Virtual Program presented by Harvard Clubs of San Antonio & Philadelphia An interactive, participatory program!
BEGIN:VALARM
TRIGGER:-PT15M
ACTION:DISPLAY
END:VALARM
TRANSP:OPAQUE
END:VEVENT
END:VCALENDAR
