BEGIN:VCALENDAR
VERSION:2.0
PRODID:-//OmniMagnetCalendar//EN
BEGIN:VEVENT
DTSTAMP:20190625T195740Z
STATUS:CONFIRMED
UID:hcsanantonio.clubs.harvard.edu382
DTSTART:20231024T223000Z
DTEND:20231024T233000Z
LOCATION:Virtual,
SUMMARY:WHERE IS THE RECESSION?   -   EVENT IS NOW FULL - Registration is closed!
DESCRIPTION:An interactive conversation with Financial Analysts & Harvard Club SA Board Members, James Watkins & Mark Fischer.
BEGIN:VALARM
TRIGGER:-PT15M
ACTION:DISPLAY
END:VALARM
TRANSP:OPAQUE
END:VEVENT
END:VCALENDAR
