BEGIN:VCALENDAR
VERSION:2.0
PRODID:-//OmniMagnetCalendar//EN
BEGIN:VEVENT
DTSTAMP:20190625T195740Z
STATUS:CONFIRMED
UID:hcsanantonio.clubs.harvard.edu384
DTSTART:20231008T170000Z
DTEND:20231008T190000Z
LOCATION:PANERA BREAD, 999 E. Basse Road, San Antonio, TX, 78209,
SUMMARY:Harvard Book Club of San Antonio Meets on October 8th
DESCRIPTION:LOCATION: Panera Bread, 999 E. Basse Road BOOK SELECTION: Evicted: Poverty and Profit in the American City, by Matthew Desmond We're meeting on Oct 8 to allow time to read the book!
BEGIN:VALARM
TRIGGER:-PT15M
ACTION:DISPLAY
END:VALARM
TRANSP:OPAQUE
END:VEVENT
END:VCALENDAR
