BEGIN:VCALENDAR
VERSION:2.0
PRODID:-//OmniMagnetCalendar//EN
BEGIN:VEVENT
DTSTAMP:20190625T195740Z
STATUS:CONFIRMED
UID:hcsanantonio.clubs.harvard.edu390
DTSTART:20240107T180000Z
DTEND:20240107T200000Z
LOCATION:Panera Bread, 999 E Basse Road, San Antonio, TX, 78209,
SUMMARY:Harvard Book Club of San Antonio - JANUARY 7TH
DESCRIPTION:LOCATION: Panera Bread, 999  E Basse Rd January book selection is :'Off The Edge: Flat Earthers, Conspiracy Culture, and Why People Will Believe Anything' by Kelly Weill
BEGIN:VALARM
TRIGGER:-PT15M
ACTION:DISPLAY
END:VALARM
TRANSP:OPAQUE
END:VEVENT
END:VCALENDAR
