BEGIN:VCALENDAR
VERSION:2.0
PRODID:-//OmniMagnetCalendar//EN
BEGIN:VEVENT
DTSTAMP:20190625T195740Z
STATUS:CONFIRMED
UID:hcsanantonio.clubs.harvard.edu391
DTSTART:20240102T140650Z
DTEND:20240315T130655Z
LOCATION:
SUMMARY:Checkout HCSA Holiday Photos!
DESCRIPTION:HCSA 2023 holiday photos - - ENJOY!
BEGIN:VALARM
TRIGGER:-PT15M
ACTION:DISPLAY
END:VALARM
TRANSP:OPAQUE
END:VEVENT
END:VCALENDAR
