BEGIN:VCALENDAR
VERSION:2.0
PRODID:-//OmniMagnetCalendar//EN
BEGIN:VEVENT
DTSTAMP:20190625T195740Z
STATUS:CONFIRMED
UID:hcsanantonio.clubs.harvard.edu393
DTSTART:20240227T220000Z
DTEND:20240227T233000Z
LOCATION:Hemisfair (Parking Garage), 434 S. Alamo St., San Antonio, TX, 78205,
SUMMARY:HEMISFAIR Private Tour for Harvard Alumni
DESCRIPTION:Special Tour of Hemisfair for HCSA, followed by No Host Dinner at Dough Pizzeria Napoletana! 
BEGIN:VALARM
TRIGGER:-PT15M
ACTION:DISPLAY
END:VALARM
TRANSP:OPAQUE
END:VEVENT
END:VCALENDAR
