BEGIN:VCALENDAR
VERSION:2.0
PRODID:-//OmniMagnetCalendar//EN
BEGIN:VEVENT
DTSTAMP:20190625T195740Z
STATUS:CONFIRMED
UID:hcsanantonio.clubs.harvard.edu395
DTSTART:20240303T180000Z
DTEND:20240303T200000Z
LOCATION:Panera Bread, 999 E Basse Road, San Antonio, TX, 78209,
SUMMARY:Harvard Book Club of San Antonio - MARCH 3rd
DESCRIPTION:LOCATION: Panera Bread, 999  E Basse Rd March book selection is :'Freakonomics'  - Revised and Expanded Edition
BEGIN:VALARM
TRIGGER:-PT15M
ACTION:DISPLAY
END:VALARM
TRANSP:OPAQUE
END:VEVENT
END:VCALENDAR
