BEGIN:VCALENDAR
VERSION:2.0
PRODID:-//OmniMagnetCalendar//EN
BEGIN:VEVENT
DTSTAMP:20190625T195740Z
STATUS:CONFIRMED
UID:hcsanantonio.clubs.harvard.edu397
DTSTART:20240229T230000Z
DTEND:20240301T000000Z
LOCATION:Ruth Taylor Fine Arts Center Stiere Theater, One Trinity Place, San Antonio, TX, 78212,
SUMMARY:FIRESIDE CHAT WITH Ruth J. Simmons, Ph.D.
DESCRIPTION:Leading change in Higher Education: Coming to Terms with our Racial Histories Free event and open to the public
BEGIN:VALARM
TRIGGER:-PT15M
ACTION:DISPLAY
END:VALARM
TRANSP:OPAQUE
END:VEVENT
END:VCALENDAR
