BEGIN:VCALENDAR
VERSION:2.0
PRODID:-//OmniMagnetCalendar//EN
BEGIN:VEVENT
DTSTAMP:20190625T195740Z
STATUS:CONFIRMED
UID:hcsanantonio.clubs.harvard.edu400
DTSTART:20240418T230000Z
DTEND:20240419T000000Z
LOCATION:Virtual,
SUMMARY:Meet the Hon. Xavier Rodriguez, Harvard College '83, US Federal District Judge
DESCRIPTION:Zoom Meeting with Xavier Rodriguez to discuss AI in Business, Law & Society - what can we expect? FREE Event
BEGIN:VALARM
TRIGGER:-PT15M
ACTION:DISPLAY
END:VALARM
TRANSP:OPAQUE
END:VEVENT
END:VCALENDAR
