BEGIN:VCALENDAR
VERSION:2.0
PRODID:-//OmniMagnetCalendar//EN
BEGIN:VEVENT
DTSTAMP:20190625T195740Z
STATUS:CONFIRMED
UID:hcsanantonio.clubs.harvard.edu401
DTSTART:20240519T163000Z
DTEND:20240519T190000Z
LOCATION:TBD,
SUMMARY:HCSA Annual Meeting Brunch & Election of Officers & Directors
DESCRIPTION:Sign Up Now! - Get Your Tickets Today! Plus Opportunity to Meet Recent Harvard Admits!
BEGIN:VALARM
TRIGGER:-PT15M
ACTION:DISPLAY
END:VALARM
TRANSP:OPAQUE
END:VEVENT
END:VCALENDAR
