BEGIN:VCALENDAR
VERSION:2.0
PRODID:-//OmniMagnetCalendar//EN
BEGIN:VEVENT
DTSTAMP:20190625T195740Z
STATUS:CONFIRMED
UID:hcsanantonio.clubs.harvard.edu403
DTSTART:20240505T170000Z
DTEND:20240505T190000Z
LOCATION:Panera Bread, 999 E Basse Road, San Antonio, TX, 78209,
SUMMARY:Harvard Book Club of San Antonio - MAY 5th
DESCRIPTION:LOCATION: Panera Bread, 999  E Basse Rd May book selection is The Coddling of the American Mind by Greg Lukianoff & Jonathan Haidt
BEGIN:VALARM
TRIGGER:-PT15M
ACTION:DISPLAY
END:VALARM
TRANSP:OPAQUE
END:VEVENT
END:VCALENDAR
