BEGIN:VCALENDAR
VERSION:2.0
PRODID:-//OmniMagnetCalendar//EN
BEGIN:VEVENT
DTSTAMP:20190625T195740Z
STATUS:CONFIRMED
UID:hcsanantonio.clubs.harvard.edu408
DTSTART:20240707T170000Z
DTEND:20240707T190000Z
LOCATION:Panera Bread, 999 E Basse Road, San Antonio, TX, 78209,
SUMMARY:Harvard Book Club of San Antonio - July 7th
DESCRIPTION:LOCATION: Panera Bread, 999  E Basse Rd July book selection is '1177 BC: the Year Civilization Collapsed', by Eric H. Cline
BEGIN:VALARM
TRIGGER:-PT15M
ACTION:DISPLAY
END:VALARM
TRANSP:OPAQUE
END:VEVENT
END:VCALENDAR
