BEGIN:VCALENDAR
VERSION:2.0
PRODID:-//OmniMagnetCalendar//EN
BEGIN:VEVENT
DTSTAMP:20190625T195740Z
STATUS:CONFIRMED
UID:hcsanantonio.clubs.harvard.edu409
DTSTART:20240728T183000Z
DTEND:20240728T203000Z
LOCATION:STONE WERKS LINCOLN HEIGHTS, 999 E. Basse Rd., San Antonio, TX, 78209, US,
SUMMARY:HCSA New Student Send Off 2024 - - RSVP today!
DESCRIPTION:Help us celebrate & give our new Harvard students a great HCSA Send-Off on July 28th! LOCATION: Stonewerks, Lincoln Heights
BEGIN:VALARM
TRIGGER:-PT15M
ACTION:DISPLAY
END:VALARM
TRANSP:OPAQUE
END:VEVENT
END:VCALENDAR
