BEGIN:VCALENDAR
VERSION:2.0
PRODID:-//OmniMagnetCalendar//EN
BEGIN:VEVENT
DTSTAMP:20190625T195740Z
STATUS:CONFIRMED
UID:hcsanantonio.clubs.harvard.edu410
DTSTART:20240804T170000Z
DTEND:20240804T190000Z
LOCATION:Panera Bread, 999 E Basse Road, San Antonio, TX, 78209,
SUMMARY:Harvard Book Club of San Antonio - AUGUST 4
DESCRIPTION:LOCATION: Panera Bread, 999  E Basse Rd August book selection is 'America's Prophet: Moses and the American Story' by Bruce Feiler
BEGIN:VALARM
TRIGGER:-PT15M
ACTION:DISPLAY
END:VALARM
TRANSP:OPAQUE
END:VEVENT
END:VCALENDAR
