BEGIN:VCALENDAR
VERSION:2.0
PRODID:-//OmniMagnetCalendar//EN
BEGIN:VEVENT
DTSTAMP:20190625T195740Z
STATUS:CONFIRMED
UID:hcsanantonio.clubs.harvard.edu411
DTSTART:20241123T170000Z
DTEND:20241123T204500Z
LOCATION:Stone Werks - Lincoln Heights,  999 E Basse Road, San Antonio, TX, 78209,
SUMMARY:The GAME 2024 - - Join us at the GAME Watch Party!
DESCRIPTION:LOCATION: Stone Werks Lincoln Heights - - Includes Auction of Harvard Captain's Chair!! Help us cheer on the Crimson as they DEMOLISH the Bulldogs in 2024!
BEGIN:VALARM
TRIGGER:-PT15M
ACTION:DISPLAY
END:VALARM
TRANSP:OPAQUE
END:VEVENT
END:VCALENDAR
