BEGIN:VCALENDAR
VERSION:2.0
PRODID:-//OmniMagnetCalendar//EN
BEGIN:VEVENT
DTSTAMP:20190625T195740Z
STATUS:CONFIRMED
UID:hcsanantonio.clubs.harvard.edu417
DTSTART:20240908T170000Z
DTEND:20240908T190000Z
LOCATION:Panera Bread, 999 E Basse Road, San Antonio, TX, 78209,
SUMMARY:Harvard Book Club of San Antonio - SUPERINTELLIGENCE BY NICK BOSTROM
DESCRIPTION:LOCATION: Panera Bread, 999  E Basse Rd September book selection is 'Superintelligence: Paths, Dangers, Strategies' by Nick Bostrom
BEGIN:VALARM
TRIGGER:-PT15M
ACTION:DISPLAY
END:VALARM
TRANSP:OPAQUE
END:VEVENT
END:VCALENDAR
