BEGIN:VCALENDAR
VERSION:2.0
PRODID:-//OmniMagnetCalendar//EN
BEGIN:VEVENT
DTSTAMP:20190625T195740Z
STATUS:CONFIRMED
UID:hcsanantonio.clubs.harvard.edu419
DTSTART:20240920T003000Z
DTEND:20240920T013000Z
LOCATION:Ruth Taylor Fine Arts Center Stieren Theater, One Trinity Place, San Antonio, X, 78212,
SUMMARY:Pulitzer Prize Winner & Harvard grad, Nicholas Kristof
DESCRIPTION:JOURNALISM IS AN ACT OF HOPE Location: Ruth Taylor Fine Arts Center Stieren Theater OPEN TO THE PUBLIC, but you must RSVP
BEGIN:VALARM
TRIGGER:-PT15M
ACTION:DISPLAY
END:VALARM
TRANSP:OPAQUE
END:VEVENT
END:VCALENDAR
