BEGIN:VCALENDAR
VERSION:2.0
PRODID:-//OmniMagnetCalendar//EN
BEGIN:VEVENT
DTSTAMP:20190625T195740Z
STATUS:CONFIRMED
UID:hcsanantonio.clubs.harvard.edu423
DTSTART:20241107T233000Z
DTEND:20241108T003000Z
LOCATION:virtual,
SUMMARY:Meet Harvard Football Assistant Head Coach, Steven Williams.- a virtual presentation
DESCRIPTION:A FREE Special Zoom Presentation by Coach Williams - - Register by November 6th Coach Williams shares his unique insights into Harvard Football 2024!
BEGIN:VALARM
TRIGGER:-PT15M
ACTION:DISPLAY
END:VALARM
TRANSP:OPAQUE
END:VEVENT
END:VCALENDAR
