BEGIN:VCALENDAR
VERSION:2.0
PRODID:-//OmniMagnetCalendar//EN
BEGIN:VEVENT
DTSTAMP:20190625T195740Z
STATUS:CONFIRMED
UID:hcsanantonio.clubs.harvard.edu427
DTSTART:20241229T200000Z
DTEND:20241229T220000Z
LOCATION:Private Alumni Residence,
SUMMARY:HAPPY HOLIDAYS - Celebrate the Season with HCSA
DESCRIPTION:Annual HCSA Holiday Party! LOCATION: Private Residence (address released after registration)
BEGIN:VALARM
TRIGGER:-PT15M
ACTION:DISPLAY
END:VALARM
TRANSP:OPAQUE
END:VEVENT
END:VCALENDAR
