BEGIN:VCALENDAR
VERSION:2.0
PRODID:-//OmniMagnetCalendar//EN
BEGIN:VEVENT
DTSTAMP:20190625T195740Z
STATUS:CONFIRMED
UID:hcsanantonio.clubs.harvard.edu429
DTSTART:20241207T233000Z
DTEND:20241207T233000Z
LOCATION:Lila Cockrell Theater on the 6th or The Cellars at Pearl on the 7th,  , San Antonio, TX, 78215,
SUMMARY:Don't miss the special performance by Mariachi Veritas de Harvard!
DESCRIPTION:THERE ARE 2 VIEWING OPTIONS! Dec 6 Nat'l Competition or Dec 7 Performance at Cellars at Pearl All HCSA Members are invited!
BEGIN:VALARM
TRIGGER:-PT15M
ACTION:DISPLAY
END:VALARM
TRANSP:OPAQUE
END:VEVENT
END:VCALENDAR
