BEGIN:VCALENDAR
VERSION:2.0
PRODID:-//OmniMagnetCalendar//EN
BEGIN:VEVENT
DTSTAMP:20190625T195740Z
STATUS:CONFIRMED
UID:hcsanantonio.clubs.harvard.edu430
DTSTART:20250105T180000Z
DTEND:20250105T200000Z
LOCATION:Panera Bread, 999 E Basse Road, San Antonio, TX, 78209,
SUMMARY:JANUARY Harvard Book Club of San Antonio - The 50 Funniest American Writers
DESCRIPTION:LOCATION: Panera Bread, 999  E Basse Rd See you at Book Club in the new year!
BEGIN:VALARM
TRIGGER:-PT15M
ACTION:DISPLAY
END:VALARM
TRANSP:OPAQUE
END:VEVENT
END:VCALENDAR
