BEGIN:VCALENDAR
VERSION:2.0
PRODID:-//OmniMagnetCalendar//EN
BEGIN:VEVENT
DTSTAMP:20190625T195740Z
STATUS:CONFIRMED
UID:hcsanantonio.clubs.harvard.edu432
DTSTART:20250128T000000Z
DTEND:20250128T010000Z
LOCATION:Virtual Program,
SUMMARY:How Stories Shape History - A Talk by Dr. Martin Puchner
DESCRIPTION:Hosted by the Harvard Club of San Antonio Please Register in Advance for this Virtual Program
BEGIN:VALARM
TRIGGER:-PT15M
ACTION:DISPLAY
END:VALARM
TRANSP:OPAQUE
END:VEVENT
END:VCALENDAR
