BEGIN:VCALENDAR
VERSION:2.0
PRODID:-//OmniMagnetCalendar//EN
BEGIN:VEVENT
DTSTAMP:20190625T195740Z
STATUS:CONFIRMED
UID:hcsanantonio.clubs.harvard.edu434
DTSTART:20250223T180000Z
DTEND:20250223T200000Z
LOCATION:Panera Bread, 999 E Basse Road, San Antonio, TX, 78209,
SUMMARY:THE NEXT Harvard Book Club of San Antonio - The Hitchhiker's Guide to the Galaxy
DESCRIPTION:LOCATION: Panera Bread, 999  E Basse Rd Note: The next Book Club Meeting is February 23rd
BEGIN:VALARM
TRIGGER:-PT15M
ACTION:DISPLAY
END:VALARM
TRANSP:OPAQUE
END:VEVENT
END:VCALENDAR
