BEGIN:VCALENDAR
VERSION:2.0
PRODID:-//OmniMagnetCalendar//EN
BEGIN:VEVENT
DTSTAMP:20190625T195740Z
STATUS:CONFIRMED
UID:hcsanantonio.clubs.harvard.edu438
DTSTART:20250215T183000Z
DTEND:20250215T193000Z
LOCATION:Virtual Program,
SUMMARY:Your Network IS Your Net Worth: How to Answer the ‘Tell Me About Yourself’ Question
DESCRIPTION:A Virtual Program that promises to delivery practical strategies for career success! Meet Dr. Laurence Stybel
BEGIN:VALARM
TRIGGER:-PT15M
ACTION:DISPLAY
END:VALARM
TRANSP:OPAQUE
END:VEVENT
END:VCALENDAR
