BEGIN:VCALENDAR
VERSION:2.0
PRODID:-//OmniMagnetCalendar//EN
BEGIN:VEVENT
DTSTAMP:20190625T195740Z
STATUS:CONFIRMED
UID:hcsanantonio.clubs.harvard.edu444
DTSTART:20250403T230000Z
DTEND:20250404T000000Z
LOCATION:Virtual Program,
SUMMARY:Do You Want to Be Wealthy?
DESCRIPTION:Join Your Peers to Explore How Your Mindset Promotes or Inhibits Wealth Creation
BEGIN:VALARM
TRIGGER:-PT15M
ACTION:DISPLAY
END:VALARM
TRANSP:OPAQUE
END:VEVENT
END:VCALENDAR
