BEGIN:VCALENDAR
VERSION:2.0
PRODID:-//OmniMagnetCalendar//EN
BEGIN:VEVENT
DTSTAMP:20190625T195740Z
STATUS:CONFIRMED
UID:hcsanantonio.clubs.harvard.edu447
DTSTART:20250407T050000Z
DTEND:20250520T170000Z
LOCATION:
SUMMARY:HAA ELECTIONS HAVE BEGUN.  Please Vote!
DESCRIPTION:HCSA encoursges you to vote in the current HAA Board of Directors and Overseers election. Ballots are due May 20. Our very own Texan Theresa Chung (BA '98, JD '02) is running for Elected Director of the HAA
BEGIN:VALARM
TRIGGER:-PT15M
ACTION:DISPLAY
END:VALARM
TRANSP:OPAQUE
END:VEVENT
END:VCALENDAR
