BEGIN:VCALENDAR
VERSION:2.0
PRODID:-//OmniMagnetCalendar//EN
BEGIN:VEVENT
DTSTAMP:20190625T195740Z
STATUS:CONFIRMED
UID:hcsanantonio.clubs.harvard.edu448
DTSTART:20250622T170000Z
DTEND:20250622T190000Z
LOCATION:Panera Bread, 999 E Basse Road, San Antonio, TX, 78209,
SUMMARY:Harvard Alumni Book Club meets on June 22nd
DESCRIPTION:LOCATION: Panera Bread, 999  E Basse Rd June book selection is 'Civilizations' by Laurent Binet
BEGIN:VALARM
TRIGGER:-PT15M
ACTION:DISPLAY
END:VALARM
TRANSP:OPAQUE
END:VEVENT
END:VCALENDAR
