BEGIN:VCALENDAR
VERSION:2.0
PRODID:-//OmniMagnetCalendar//EN
BEGIN:VEVENT
DTSTAMP:20190625T195740Z
STATUS:CONFIRMED
UID:hcsanantonio.clubs.harvard.edu457
DTSTART:20250907T170000Z
DTEND:20250907T203000Z
LOCATION:Panzer, Private Residence, 2254 Nacogdoches Road, San Antonio, TX, 78209,
SUMMARY:IVY PLUS event: Make Your Own Bonsai
DESCRIPTION:Learn about the Art & History of Bonsai with our Ivy Plus friends! Sponsored by Penn Alumni Club of San Antonio
BEGIN:VALARM
TRIGGER:-PT15M
ACTION:DISPLAY
END:VALARM
TRANSP:OPAQUE
END:VEVENT
END:VCALENDAR
