BEGIN:VCALENDAR
VERSION:2.0
PRODID:-//OmniMagnetCalendar//EN
BEGIN:VEVENT
DTSTAMP:20190625T195740Z
STATUS:CONFIRMED
UID:hcsanantonio.clubs.harvard.edu459
DTSTART:20250906T140000Z
DTEND:20250906T163008Z
LOCATION:San Antonio Food Bank, 5200 Historic, Old Hwy 90 W., San Antonio, TX, 78227,
SUMMARY:Food Bank Volunteer Day - - a great Ivy Plus event!
DESCRIPTION:Let's join our friends at Penn Club of San Antonio & Volunteer at Food Bank SA
BEGIN:VALARM
TRIGGER:-PT15M
ACTION:DISPLAY
END:VALARM
TRANSP:OPAQUE
END:VEVENT
END:VCALENDAR
