BEGIN:VCALENDAR
VERSION:2.0
PRODID:-//OmniMagnetCalendar//EN
BEGIN:VEVENT
DTSTAMP:20190625T195740Z
STATUS:CONFIRMED
UID:hcsanantonio.clubs.harvard.edu465
DTSTART:20251123T180000Z
DTEND:20251123T200000Z
LOCATION:Panera Bread, 999 E Basse Road, San Antonio, TX, 78209,
SUMMARY:Harvard Alumni Book Club - -  NOVEMBER
DESCRIPTION:LOCATION: Panera Bread, 999  E Basse Rd November book selection is The Honest Truth About Dishonesty by Dr. Dan Ariely
BEGIN:VALARM
TRIGGER:-PT15M
ACTION:DISPLAY
END:VALARM
TRANSP:OPAQUE
END:VEVENT
END:VCALENDAR
