BEGIN:VCALENDAR
VERSION:2.0
PRODID:-//OmniMagnetCalendar//EN
BEGIN:VEVENT
DTSTAMP:20190625T195740Z
STATUS:CONFIRMED
UID:hcsanantonio.clubs.harvard.edu466
DTSTART:20251108T160000Z
DTEND:20251108T193000Z
LOCATION:MISSION ESPADA (Meet-Up Locaiton), 10040 Espada Road, San Antonio, TX, 78214,
SUMMARY:HARVARD MOVES - Join Harvard Alums on a Scenic BIKE RIDE in San Antonio - (FREE EVENT)
DESCRIPTION:Kicking-off at the historic Mission Espada & Rolling up to the creative hub at BLUE STAR ARTS COMPLEX Let's Ride Together, Support Each Other & Celebrate Movement in our City!
BEGIN:VALARM
TRIGGER:-PT15M
ACTION:DISPLAY
END:VALARM
TRANSP:OPAQUE
END:VEVENT
END:VCALENDAR
