BEGIN:VCALENDAR
VERSION:2.0
PRODID:-//OmniMagnetCalendar//EN
BEGIN:VEVENT
DTSTAMP:20190625T195740Z
STATUS:CONFIRMED
UID:hcsanantonio.clubs.harvard.edu467
DTSTART:20251228T190000Z
DTEND:20251228T210000Z
LOCATION:Private Alumni Residence,
SUMMARY:Enjoy Laughter, Holiday Cheer & Unforgettable HARVARD ALUMNI MAGIC!
DESCRIPTION:CELEBRATE THE SEASON WITH HCSA Check out the Special Offer for Non HCSA Members! LOCATION: Private Residence
BEGIN:VALARM
TRIGGER:-PT15M
ACTION:DISPLAY
END:VALARM
TRANSP:OPAQUE
END:VEVENT
END:VCALENDAR
