BEGIN:VCALENDAR
VERSION:2.0
PRODID:-//OmniMagnetCalendar//EN
BEGIN:VEVENT
DTSTAMP:20190625T195740Z
STATUS:CONFIRMED
UID:hcsanantonio.clubs.harvard.edu470
DTSTART:20260201T180000Z
DTEND:20260201T200000Z
LOCATION:Panera Bread, 999 E Basse Road, San Antonio, TX, 78209,
SUMMARY:HAPPY NEW YEAR! Harvard Alumni Book Club - - DATE HAS CHANGED to February 1
DESCRIPTION:LOCATION: Panera Bread, 999  E Basse Rd Liberalism and its Discontents by Francis Fukuyama
BEGIN:VALARM
TRIGGER:-PT15M
ACTION:DISPLAY
END:VALARM
TRANSP:OPAQUE
END:VEVENT
END:VCALENDAR
