BEGIN:VCALENDAR
VERSION:2.0
PRODID:-//OmniMagnetCalendar//EN
BEGIN:VEVENT
DTSTAMP:20190625T195740Z
STATUS:CONFIRMED
UID:hcsanantonio.clubs.harvard.edu471
DTSTART:20260116T174500Z
DTEND:20260116T190000Z
LOCATION:The Roosevelt Library, 311 Roosevelt Avenue, San Antonio, TX,
SUMMARY:Meet R.C. Buford, CEO of Spurs Sports & Entertainment
DESCRIPTION:LOCATION: Roosevelt Library - - a limited space luncheon / register early An IVY PLUS upcoming event - - Midday Musings
BEGIN:VALARM
TRIGGER:-PT15M
ACTION:DISPLAY
END:VALARM
TRANSP:OPAQUE
END:VEVENT
END:VCALENDAR
