BEGIN:VCALENDAR
VERSION:2.0
PRODID:-//OmniMagnetCalendar//EN
BEGIN:VEVENT
DTSTAMP:20190625T195740Z
STATUS:CONFIRMED
UID:hcsanantonio.clubs.harvard.edu472
DTSTART:20260120T000000Z
DTEND:20260120T010000Z
LOCATION:Rome's Pizza, 5999 De Zavala Road, San Antonio, TX, 78249,
SUMMARY:Let's Join HBS & MIT at their January Book Club Get Together!
DESCRIPTION:An IVY PLUS upcoming event LOCATION: Rome's Pizza
BEGIN:VALARM
TRIGGER:-PT15M
ACTION:DISPLAY
END:VALARM
TRANSP:OPAQUE
END:VEVENT
END:VCALENDAR
