BEGIN:VCALENDAR
VERSION:2.0
PRODID:-//OmniMagnetCalendar//EN
BEGIN:VEVENT
DTSTAMP:20190625T195740Z
STATUS:CONFIRMED
UID:hcsanantonio.clubs.harvard.edu473
DTSTART:20260203T133000Z
DTEND:20260203T150000Z
LOCATION:The Petroleum Club, 8620 N New Braunfels, 7th Floor of Energy Plaza Bldg., San Antonio, TX, 78217,
SUMMARY:Breakfast with Texas A&M San Antonio President
DESCRIPTION:LOCATION: The Petroleum Club An IVY PLUS upcoming event - An invitation from HBS Club of San Antonio
BEGIN:VALARM
TRIGGER:-PT15M
ACTION:DISPLAY
END:VALARM
TRANSP:OPAQUE
END:VEVENT
END:VCALENDAR
