BEGIN:VCALENDAR
VERSION:2.0
PRODID:-//OmniMagnetCalendar//EN
BEGIN:VEVENT
DTSTAMP:20190625T195740Z
STATUS:CONFIRMED
UID:hcsanantonio.clubs.harvard.edu474
DTSTART:20260207T160000Z
DTEND:20260207T180000Z
LOCATION:Chicken and Pickle, 5215 UTSA Boulevard , San Antonio, TX,  78249,
SUMMARY:Honorarium for Former Mayor Ron Nirenberg + Pickleball
DESCRIPTION:Ivy Plus -  Upcoming Event Opportunity to play pickleball with former Mayor Nirenberg
BEGIN:VALARM
TRIGGER:-PT15M
ACTION:DISPLAY
END:VALARM
TRANSP:OPAQUE
END:VEVENT
END:VCALENDAR
