BEGIN:VCALENDAR
VERSION:2.0
PRODID:-//OmniMagnetCalendar//EN
BEGIN:VEVENT
DTSTAMP:20190625T195740Z
STATUS:CONFIRMED
UID:hcsanantonio.clubs.harvard.edu477
DTSTART:20260127T000000Z
DTEND:20260127T010000Z
LOCATION:virtual program,
SUMMARY:Embracing AI in CS50 at Harvard, Oxford, and Beyond with DAVID J. MALAN
DESCRIPTION:Discover how AI is transforming one of Harvard’s most iconic courses, CS50. ADVANCE REGISTRATION REQUIRED
BEGIN:VALARM
TRIGGER:-PT15M
ACTION:DISPLAY
END:VALARM
TRANSP:OPAQUE
END:VEVENT
END:VCALENDAR
