BEGIN:VCALENDAR
VERSION:2.0
PRODID:-//OmniMagnetCalendar//EN
BEGIN:VEVENT
DTSTAMP:20190625T195740Z
STATUS:CONFIRMED
UID:hcsanantonio.clubs.harvard.edu481
DTSTART:20260217T230000Z
DTEND:20260218T013000Z
LOCATION:LA TEQUILA JALISCO RESTAURANT BAR & GRILL, 90 Crossroads Blvd., (Crossroads Center), San Antonio, TX, 78201,
SUMMARY:Ivy Plus Mardi Gras Taco Tuesday
DESCRIPTION:Location: LA TEQUILA JALISCO RESTAURANT BAR & GRILL
BEGIN:VALARM
TRIGGER:-PT15M
ACTION:DISPLAY
END:VALARM
TRANSP:OPAQUE
END:VEVENT
END:VCALENDAR
