BEGIN:VCALENDAR
VERSION:2.0
PRODID:-//OmniMagnetCalendar//EN
BEGIN:VEVENT
DTSTAMP:20190625T195740Z
STATUS:CONFIRMED
UID:hcsanantonio.clubs.harvard.edu482
DTSTART:20260316T230000Z
DTEND:20260317T000000Z
LOCATION:Rome's Pizza, 5999 De Zavala Road, San Antonio, TX, 78249,
SUMMARY:Let's Join MIT at their March Book Club Get Together!
DESCRIPTION:March book selection: Dirt to Soil, by Gabe Brown LOCATION: Rome's Pizza
BEGIN:VALARM
TRIGGER:-PT15M
ACTION:DISPLAY
END:VALARM
TRANSP:OPAQUE
END:VEVENT
END:VCALENDAR
