BEGIN:VCALENDAR
VERSION:2.0
PRODID:-//OmniMagnetCalendar//EN
BEGIN:VEVENT
DTSTAMP:20190625T195740Z
STATUS:CONFIRMED
UID:hcsanantonio.clubs.harvard.edu488
DTSTART:20260516T163000Z
DTEND:20260516T183000Z
LOCATION:The Towers on Park Lane, 1 Towers Park Lane , San Antonio, TX, 78209,
SUMMARY:HCSA Annual Meeting & Brunch 2026
DESCRIPTION:Registration Deadline is May 4th
BEGIN:VALARM
TRIGGER:-PT15M
ACTION:DISPLAY
END:VALARM
TRANSP:OPAQUE
END:VEVENT
END:VCALENDAR
