BEGIN:VCALENDAR
VERSION:2.0
PRODID:-//OmniMagnetCalendar//EN
BEGIN:VEVENT
DTSTAMP:20190625T195740Z
STATUS:CONFIRMED
UID:hcsanantonio.clubs.harvard.edu489
DTSTART:20260420T160000Z
DTEND:20261010T190000Z
LOCATION:SAVE THE DATE,
SUMMARY:Harvard Prize Book 2026 & Prize Book BBQ Sponsorship Opportunities
DESCRIPTION:SPONSOR a Harvard Prize Book!
BEGIN:VALARM
TRIGGER:-PT15M
ACTION:DISPLAY
END:VALARM
TRANSP:OPAQUE
END:VEVENT
END:VCALENDAR
